 BEGIN:VCALENDAR
VERSION:2.0
PRODID:-//Boneyard Arts Festival - ECPv6.15.20//NONSGML v1.0//EN
CALSCALE:GREGORIAN
METHOD:PUBLISH
X-ORIGINAL-URL:https://boneyardartsfestival.org
X-WR-CALDESC:Events for Boneyard Arts Festival
REFRESH-INTERVAL;VALUE=DURATION:PT1H
X-Robots-Tag:noindex
X-PUBLISHED-TTL:PT1H
BEGIN:VTIMEZONE
TZID:America/Chicago
BEGIN:DAYLIGHT
TZOFFSETFROM:-0600
TZOFFSETTO:-0500
TZNAME:CDT
DTSTART:20250309T080000
END:DAYLIGHT
BEGIN:STANDARD
TZOFFSETFROM:-0500
TZOFFSETTO:-0600
TZNAME:CST
DTSTART:20251102T070000
END:STANDARD
BEGIN:DAYLIGHT
TZOFFSETFROM:-0600
TZOFFSETTO:-0500
TZNAME:CDT
DTSTART:20260308T080000
END:DAYLIGHT
BEGIN:STANDARD
TZOFFSETFROM:-0500
TZOFFSETTO:-0600
TZNAME:CST
DTSTART:20261101T070000
END:STANDARD
BEGIN:DAYLIGHT
TZOFFSETFROM:-0600
TZOFFSETTO:-0500
TZNAME:CDT
DTSTART:20270314T080000
END:DAYLIGHT
BEGIN:STANDARD
TZOFFSETFROM:-0500
TZOFFSETTO:-0600
TZNAME:CST
DTSTART:20271107T070000
END:STANDARD
END:VTIMEZONE
BEGIN:VEVENT
DTSTART;TZID=America/Chicago:20260409T170000
DTEND;TZID=America/Chicago:20260411T180000
DTSTAMP:20260421T000413
CREATED:20160318T213420Z
LAST-MODIFIED:20260330T174743Z
UID:1702-1775754000-1775930400@boneyardartsfestival.org
SUMMARY:Krannert Art Museum
DESCRIPTION:Come explore exhibitions on view at Krannert Art Museum (KAM) including Another Place: Storymaking the Entangled Prairie (featuring 11 artists on faculty in the School of Art & Design)\, Memorias de la Mujer Lotina: Arpilleras\, Women\, and Coal in Chile\, the MFA Exhibition; Encounters: The Arts of Africa\, Art Since 1948\, Fragmented Histories: Andean Art Before 1600\, Historical American and European Art Collections\, Well-Designed Beauty: Trade\, Technology\, and Decorative Arts\, and our Ancient Mediterranean collection. Enjoy three exciting Boneyard events: KAM’s Teen Night at the Art Museum\, Improvisers Exchange: Sonic Location\, and MFA Exhibition Opening Reception. \n\n\n\nLocal artist names from Another Place: Storymaking the Entangled Prairie: \nRyan Griffis\nEmmy Lingscheit\nMelissa Pokorny\nSharath Chandra Ramakrishnan\nStacey A. Robinson\nJoel Ross\nStephen Signa-Avilés\nBlair Ebony Smith\nNekita Thomas\nDeke Weaver\nBrooke C. White \nLocal artist names for MFA Exhibition: \nJose Cabada\nOriana Crutcher\nGrey Dey\nSamantha Jones\nJustin Kim\nAnthony Obayomi\n(Ted) Fengzhuo Shao\nEmily Tomlinson \n\n\n\n4/9 · Teen Night at the Art Museum for Boneyard! 5–7:30 pm Calling all teens! Join us for a teen takeover of the museum featuring live music\, art-making\, activities\, and food for young people in middle school and high school as part of Boneyard Arts Festival. Explore our galleries and flex your creative muscles during this teen night at the museum! Includes a pop-up exhibition of works by ArtSpeak\, our teen museum interns from Rantoul High School. \n4/11 · Improvisers Exchange: Sonic Location 1–3 pm Experience immersive sound as you view artwork at Krannert Art Museum! Curated by Jason Finkelman\, director of Global Arts Performance Initiatives at Krannert Center for the Performing Arts. A Boneyard Arts Festival and Mom’s Weekend event. \n4/11 · MFA Exhibition Opening Reception 4–6 pm \nKrannert Art Museum is open Friday 10am-5pm and Saturday 10am-4pm. We are closed Sundays.
URL:https://boneyardartsfestival.org/event/krannert-art-museum/
LOCATION:Krannert Art Museum\, 500 East Peabody Drive\, Champaign\, IL\, 61820\, United States
CATEGORIES:Campus,Champaign,Drawing/Illustration,Fine Art,Found Object,Installation,Kids/Family friendly,Mixed media,Painting,Photography,Pottery/Ceramics,Printmaking,Reception,Sculpture,Textiles/Fiber,Visual Art,World Music
ATTACH;FMTTYPE=image/jpeg:https://boneyardartsfestival.org/wp-content/uploads/2016/03/KAM.jpg
END:VEVENT
END:VCALENDAR