 BEGIN:VCALENDAR
VERSION:2.0
PRODID:-//Boneyard Arts Festival - ECPv6.15.20//NONSGML v1.0//EN
CALSCALE:GREGORIAN
METHOD:PUBLISH
X-ORIGINAL-URL:https://boneyardartsfestival.org
X-WR-CALDESC:Events for Boneyard Arts Festival
REFRESH-INTERVAL;VALUE=DURATION:PT1H
X-Robots-Tag:noindex
X-PUBLISHED-TTL:PT1H
BEGIN:VTIMEZONE
TZID:America/Chicago
BEGIN:DAYLIGHT
TZOFFSETFROM:-0600
TZOFFSETTO:-0500
TZNAME:CDT
DTSTART:20250309T080000
END:DAYLIGHT
BEGIN:STANDARD
TZOFFSETFROM:-0500
TZOFFSETTO:-0600
TZNAME:CST
DTSTART:20251102T070000
END:STANDARD
BEGIN:DAYLIGHT
TZOFFSETFROM:-0600
TZOFFSETTO:-0500
TZNAME:CDT
DTSTART:20260308T080000
END:DAYLIGHT
BEGIN:STANDARD
TZOFFSETFROM:-0500
TZOFFSETTO:-0600
TZNAME:CST
DTSTART:20261101T070000
END:STANDARD
BEGIN:DAYLIGHT
TZOFFSETFROM:-0600
TZOFFSETTO:-0500
TZNAME:CDT
DTSTART:20270314T080000
END:DAYLIGHT
BEGIN:STANDARD
TZOFFSETFROM:-0500
TZOFFSETTO:-0600
TZNAME:CST
DTSTART:20271107T070000
END:STANDARD
END:VTIMEZONE
BEGIN:VEVENT
DTSTART;TZID=America/Chicago:20260410T140000
DTEND;TZID=America/Chicago:20260411T120000
DTSTAMP:20260420T000140
CREATED:20170328T001054Z
LAST-MODIFIED:20260323T200121Z
UID:2913-1775829600-1775908800@boneyardartsfestival.org
SUMMARY:Virginia Theatre
DESCRIPTION:The Enchanted Museum the Ballet \nThis plotless ballet is loosely inspired by Josef Bayer’s “The Fairy Doll” (1888) as well as the 2006 comedy film “Night at the Museum” by Shawn Levy and the 1993 children’s book of the same name by Milan Trenc. An original production performed by the Dance Arts Conservatory. With a mix of both original choreography and well-known variations\, performers will find themselves portraying characters within this fantastical world using the variety of dance styles. \nFriday\, April 10\, at 7pm (doors open at 6:15pm)\nSaturday\, April 11\, at 2pm (doors open at 1:15 pm) \nTotal Runtime: approx. 2.5 hours (with a 15min intermission) \nVirginia Theatre Box Office Hours: M-F\, 10 am – 2pm \nReserved Seating Tickets: \n$16 Regular\n$14 Child (12 & Under)\n$14 Senior (55+)\nPlus a per-ticket fee of $2\nFree for infants 2 & under (for free infant tickets\, please visit the Box Office or call 217-356-9063) \nCLICK HERE for tickets!
URL:https://boneyardartsfestival.org/event/virginia-theatre/
LOCATION:Virginia Theatre\, 203 West Park Avenue\, Champaign\, IL\, 61820\, United States
CATEGORIES:Champaign,Dance,Music,Performance,Theater/Drama
ATTACH;FMTTYPE=image/jpeg:https://boneyardartsfestival.org/wp-content/uploads/2017/03/virginia.jpg
END:VEVENT
END:VCALENDAR