 BEGIN:VCALENDAR
VERSION:2.0
PRODID:-//Boneyard Arts Festival - ECPv6.15.20//NONSGML v1.0//EN
CALSCALE:GREGORIAN
METHOD:PUBLISH
X-ORIGINAL-URL:https://boneyardartsfestival.org
X-WR-CALDESC:Events for Boneyard Arts Festival
REFRESH-INTERVAL;VALUE=DURATION:PT1H
X-Robots-Tag:noindex
X-PUBLISHED-TTL:PT1H
BEGIN:VTIMEZONE
TZID:America/Chicago
BEGIN:DAYLIGHT
TZOFFSETFROM:-0600
TZOFFSETTO:-0500
TZNAME:CDT
DTSTART:20250309T080000
END:DAYLIGHT
BEGIN:STANDARD
TZOFFSETFROM:-0500
TZOFFSETTO:-0600
TZNAME:CST
DTSTART:20251102T070000
END:STANDARD
BEGIN:DAYLIGHT
TZOFFSETFROM:-0600
TZOFFSETTO:-0500
TZNAME:CDT
DTSTART:20260308T080000
END:DAYLIGHT
BEGIN:STANDARD
TZOFFSETFROM:-0500
TZOFFSETTO:-0600
TZNAME:CST
DTSTART:20261101T070000
END:STANDARD
BEGIN:DAYLIGHT
TZOFFSETFROM:-0600
TZOFFSETTO:-0500
TZNAME:CDT
DTSTART:20270314T080000
END:DAYLIGHT
BEGIN:STANDARD
TZOFFSETFROM:-0500
TZOFFSETTO:-0600
TZNAME:CST
DTSTART:20271107T070000
END:STANDARD
END:VTIMEZONE
BEGIN:VEVENT
DTSTART;TZID=America/Chicago:20260412T060000
DTEND;TZID=America/Chicago:20260412T114500
DTSTAMP:20260422T205904
CREATED:20160317T203820Z
LAST-MODIFIED:20260330T172538Z
UID:1654-1775973600-1775994300@boneyardartsfestival.org
SUMMARY:UIUC Graduate South Studios
DESCRIPTION:Visit the University of Illinois South Studios complex and meet the Studio Art MFA candidates in their graduate studios. Current students are working in painting\, printmaking\, sculpture\, textiles\, drawing\, collage\, animation\, photography\, and social practice. Events include textile workshops\, drop-in artmaking activities\, artworks for sale\, panel conversation\, publication release\, plant sale\, and light refreshments. \nSUNDAY\, APRIL 12: \n11:00am-12:30pm Photoembroidery Workshop\nVictoria Schiodtz\nLocation: Building 5\nCLICK HERE to Register! \n1:00-3:00pm Wardrobe Workshop ($5 deposit- to be returned at the workshop) \nLab Thair Thursday and Jennie Maydew\nLocation: Building 2\nCLICK HERE to Register! \n4:00-4:45pm Publication Release and Panel Conversation\nLocation: Building 2 \n11:00am-4:00pm Collage and Button Making\nThursday Talcott\nLocation: Building 6 \n11:00am-4:00pm Printmaking Shop\nIndigo Rodríguez\nLocation: Building 2 \n11:00am-4:00pm Plant Sale\nLocation: Building 2 \n11:00am-4:00pm DIY Popcorn Bar\nLocation: Building 6 \n\n\n\nDriveways are gravel and doors are not automatic — though\, there are no stairs or ramps to worry about\, and doors will be propped open. \nIndigo Rodríguez is an artist and writer interrogating representation\, erasure\, and the confrontational nature of normative assumptions. He draws upon multiple disciplines to create sculptures and installations — working with materials in disrepair to challenge what is thought to be worthy of artistic attention. \n\n\n\nJennie Maydew explores how an interdisciplinary social practice can playfully dissolve prescription\, emphasize process\, and keep our personal and communal gifts in motion. Through an inquiry into alternate economies\, (fun)ctionality\, and the concept of play as serious work\, she centers the nature and urgency of our obligations to past\, present\, and future beings. Creating the conditions where questions can be collectively tended\, Jennie delays certainty to recognize attention\, attunement\, and ambivalence as life-sustaining strategies. \nVictoria Schiodtz is an intermedial artist born in Viña Del Mar\, Chile\, in 1998. She attended the Pontificia Universidad Católica de Valparaíso\, receiving a Bachelor’s degree in Fine Art in 2021. Her body of work and exploration orbit the concepts of trauma\, memory\, body and origin. Victoria currently lives in Urbana\, Illinois\, where she is an MFA in Studio Art candidate at the University of Illinois Urbana-Champaign. \nThair Thursday – Sculptor\, animator\, fiber artist//organizer\, gardener\, friend//trans\, queer\, fag \n 
URL:https://boneyardartsfestival.org/event/south-studio/
LOCATION:South Studios\, 2109 Griffith Dr\, Chamapign\, IL\, 61820\, United States
CATEGORIES:Campus,Demo/Workshop,Drawing/Illustration,Fine Art,Installation,Mixed media,Painting,Photography,Printmaking,Reading,Reception,Sculpture,Textiles/Fiber,Visual Art
ATTACH;FMTTYPE=image/jpeg:https://boneyardartsfestival.org/wp-content/uploads/2016/03/south-studios.jpg
END:VEVENT
BEGIN:VEVENT
DTSTART;TZID=America/Chicago:20260411T130000
DTEND;TZID=America/Chicago:20260411T143000
DTSTAMP:20260422T205904
CREATED:20160317T214354Z
LAST-MODIFIED:20260323T234119Z
UID:1666-1775912400-1775917800@boneyardartsfestival.org
SUMMARY:Jane Addams Book Shop
DESCRIPTION:Spoken Word: Members of the Illinois State Poetry Society\, Champaign-Urbana Poetry Group and guests will read new and selected works. \nSaturday\, April 11th from 1-2:30pm \nThe event is held on our third floor and only accessible by stairs.
URL:https://boneyardartsfestival.org/event/jane-addams-book-shop/
LOCATION:Jane Addams Book Shop\, 208 N. Neil St.\, Champaign\, IL\, 61820\, United States
CATEGORIES:Champaign,Poetry/Lit,Reading
ATTACH;FMTTYPE=image/jpeg:https://boneyardartsfestival.org/wp-content/uploads/2016/03/jane-adams-scaled.jpg
END:VEVENT
BEGIN:VEVENT
DTSTART;TZID=America/Chicago:20260411T120000
DTEND;TZID=America/Chicago:20260411T160000
DTSTAMP:20260422T205904
CREATED:20230331T190922Z
LAST-MODIFIED:20260330T215015Z
UID:7388-1775908800-1775923200@boneyardartsfestival.org
SUMMARY:OLLI at Illinois
DESCRIPTION:Boneyard at OLLI! Group exhibition featuring works by 20+ artists\, poets\, & writers in paint\, photography\, jewelry\, fabric art\, and ceramics; verse and prose! \n\nArt Show: Saturday 4/11\, 12-4pm\nPoetry Reading: Saturday 4/11\, 12:30-1:30pm\nProse: Saturday 4/11\, 2-3:30pm. \nLocation: 2nd floor of M2 building. Main entrance to show and readings from Neil St\, elevator to 2nd floor. Direct entrance from Hill St. Parking deck\, level 2. Follow signs. \nFeaturing: \nAscend.Art360 Collaborative\nNaveed Adoni\nBari Arnote\nRoy Campbell\nSusan Catt\nBernard Cesarone\nSeth Condon\nCathy Cunningham\nMary Emmons\nSue Ingels\nMarc Snir\nMarti Sullan\nBrian Sullan\nMohan Tracy\nKatherine Valdes\nKuldeepa Vartak-Mehta\nCharles Wisseman\nSarah Wisseman\nJohn Palen\nSusan Farner\nCheryl Weber\nFrank Modica\nKate Dobrovolny\nAlan Walworth\nSue Ingels\nJerry Wray\nJongin Craggs\nCynthia Sweet\nMargaret Maurer\nBeverly Smith\nAlan Walworth\nFrank Chadwick\nEddie Mayer\nTom Pikus\nArmine Mortimer\nJohn Best\nRussell Ciafone
URL:https://boneyardartsfestival.org/event/olli-at-illinois/
LOCATION:OLLI at Illinois\, 301 N. Neil St. (M2 building) Suite 201\, Champaign\, IL\, 61820\, United States
CATEGORIES:Champaign,Fine Art,Jewelry/Metals,Mixed media,Other,Painting,Photography,Poetry/Lit,Reading,Textiles/Fiber,Visual Art
ATTACH;FMTTYPE=image/jpeg:https://boneyardartsfestival.org/wp-content/uploads/2023/03/Front-Image-for-OLLI-Website.jpg
END:VEVENT
BEGIN:VEVENT
DTSTART;TZID=America/Chicago:20260410T100000
DTEND;TZID=America/Chicago:20260412T180000
DTSTAMP:20260422T205904
CREATED:20160318T202711Z
LAST-MODIFIED:20260324T202749Z
UID:1691-1775815200-1776016800@boneyardartsfestival.org
SUMMARY:Urbana Free Library
DESCRIPTION:Exploring Creative Photography with Mili Vishwakarma: Artist of the Corridor and Boneyard Workshop – This workshop offers a glimpse into creative photography\, encouraging you to see beyond the obvious\, break conventions\, and\, above all\, create with joy and emotion. You’ll learn how to get creative with the way you look at ordinary objects\, and learn techniques for cameras and editing tools to achieve layered abstractions in photographs. No prior photography experience is required for this workshop. \nMusings: Artist of the Corridor Exhibit. This dual-site exhibition is on view at Urbana’s City Hall and The Urbana Free Library presenting photography by Mili Vishwakarma. Musings\, featured at the library\, let’s visitors slow down\, notice transitions\, and find meaning in both movement and stillness. Just as nature continually renews itself\, the exhibition suggests that life\, too\, is shaped by change\, resilience\, and quiet moments of becoming. \nArt Exhibit with Urbana’s Elementary Schools – As part of the Boneyard Arts Festival\, art teachers from Urbana Elementary Schools are exhibiting artwork from their students. Art teachers develop lessons guided by national and state arts standards to provide art experiences in a variety of mediums. Please see the individual name plates and descriptions of the art on each display panel. \nFine Arts Showcase Performance with Urbana’s Elementary Schools – Join students from multiple elementary schools in Urbana as they perform music and more\, showcasing what they have been learning in their fine arts classes and choirs! \nRed Herring Writers – Writers from the Red Herring Fiction Workshop (Champaign-Urbana’s longest-running writing workshop) will share their work\, including various creative writing styles and topics. Authors featured at this year’s reading will be announced soon. The Red Herring Fiction Workshop has been meeting since 1980. They currently meet at the Champaign Public Library at 7:00 pm on Tuesdays. Writers at every level are welcome. \nBoth exhibits\, Mili Vishwakarma and Urbana’s Elementary Schools\, are open during Library open hours. \nLibrary Gallery Fine Arts Showcase Performance with Urbana’s Elementary Schools – Saturday\, April 11\, 3-3:45 pm\, The Lewis Auditorium \nExploring Creative Photography with Mili Vishwakarma: Artist of the Corridor and Boneyard Workshop – Sunday\, April 12\, 2:00 pm-3:00 pm \nRed Herring Writers: A Boneyard Arts Event – Sunday\, April 12\, 2:30-4:00\, The Lewis Auditorium \nThe Library’s Boneyard hours:\nFriday\, 4/10: 10am-6pm\nSaturday\, 4/11: 10am-6pm\nSunday\, 4/12: 1pm-6pm
URL:https://boneyardartsfestival.org/event/the-urbana-free-library/
LOCATION:The Urbana Free Library\, 210 West Green Street\, Urbana\, IL\, 61801\, United States
CATEGORIES:Community Art,Demo/Workshop,Drawing/Illustration,Kids/Family friendly,Mixed media,Music,Painting,Performance,Photography,Poetry/Lit,Reading,Urbana,Visual Art
ATTACH;FMTTYPE=image/jpeg:https://boneyardartsfestival.org/wp-content/uploads/2016/03/Urbana-Free-Library-scaled.jpg
END:VEVENT
END:VCALENDAR