 BEGIN:VCALENDAR
VERSION:2.0
PRODID:-//Boneyard Arts Festival - ECPv6.15.20//NONSGML v1.0//EN
CALSCALE:GREGORIAN
METHOD:PUBLISH
X-WR-CALNAME:Boneyard Arts Festival
X-ORIGINAL-URL:https://boneyardartsfestival.org
X-WR-CALDESC:Events for Boneyard Arts Festival
REFRESH-INTERVAL;VALUE=DURATION:PT1H
X-Robots-Tag:noindex
X-PUBLISHED-TTL:PT1H
BEGIN:VTIMEZONE
TZID:America/Chicago
BEGIN:DAYLIGHT
TZOFFSETFROM:-0600
TZOFFSETTO:-0500
TZNAME:CDT
DTSTART:20250309T080000
END:DAYLIGHT
BEGIN:STANDARD
TZOFFSETFROM:-0500
TZOFFSETTO:-0600
TZNAME:CST
DTSTART:20251102T070000
END:STANDARD
BEGIN:DAYLIGHT
TZOFFSETFROM:-0600
TZOFFSETTO:-0500
TZNAME:CDT
DTSTART:20260308T080000
END:DAYLIGHT
BEGIN:STANDARD
TZOFFSETFROM:-0500
TZOFFSETTO:-0600
TZNAME:CST
DTSTART:20261101T070000
END:STANDARD
BEGIN:DAYLIGHT
TZOFFSETFROM:-0600
TZOFFSETTO:-0500
TZNAME:CDT
DTSTART:20270314T080000
END:DAYLIGHT
BEGIN:STANDARD
TZOFFSETFROM:-0500
TZOFFSETTO:-0600
TZNAME:CST
DTSTART:20271107T070000
END:STANDARD
END:VTIMEZONE
BEGIN:VEVENT
DTSTART;TZID=America/Chicago:20260411T120000
DTEND;TZID=America/Chicago:20260411T150000
DTSTAMP:20260422T205842
CREATED:20160323T021449Z
LAST-MODIFIED:20260326T215422Z
UID:1907-1775908800-1775919600@boneyardartsfestival.org
SUMMARY:Giertz Gallery at Parkland College
DESCRIPTION:Student Exhibit at Giertz Gallery at Parkland College \nJoin us for a “sneak peek” of the upcoming 58th Art & Design Student Juried exhibition with approximately 200 works of art. This impressive body of student work\, produced in art classes at Parkland College\, includes photography\, painting\, drawing\, figure drawing\, metals\, three-dimensional design\, two-dimensional design\, color theory\, graphic design\, and ceramics. \nGiertz Gallery will be open on Saturday\, April 11\, from 12 to 3pm.
URL:https://boneyardartsfestival.org/event/giertz-gallery-at-parkland-college/
LOCATION:Giertz Gallery at Parkland College\, 2400 W Bradley Ave\, Champaign\, IL\, 61821\, United States
CATEGORIES:Champaign,Digital,Drawing/Illustration,Fine Art,Graphic Design,Jewelry/Metals,Juried,Mixed media,Painting,Photography,Pottery/Ceramics,Printmaking,Sculpture,Visual Art
ATTACH;FMTTYPE=image/jpeg:https://boneyardartsfestival.org/wp-content/uploads/2016/03/giertz-gallery.jpg
END:VEVENT
BEGIN:VEVENT
DTSTART;TZID=America/Chicago:20260411T100000
DTEND;TZID=America/Chicago:20260412T190000
DTSTAMP:20260422T205842
CREATED:20220323T151517Z
LAST-MODIFIED:20260408T153646Z
UID:6656-1775901600-1776020400@boneyardartsfestival.org
SUMMARY:Cloud Mountain Kombucha
DESCRIPTION:Cloud Mountain Kombucha will have artists and vendors set-up exhibit/market style and will also feature two bands\, Tim Ryan and Friends\, Terraign\, and DJ Carlie Upchurch. \nFeaturing: \nMadison Thompson: Echoed Adornments\nOne of a kind jewelry made from upcycled materials. \nOlga Aleman: Luscious Leaves\nLuscious Leaves will be showcasing a small collection of living botanical creations at Cloud Mountain Kombucha. The display will include a variety of handcrafted terrariums\, kokedama\, and mounted plant pieces\, each designed to blend natural beauty with artistic presentation. Rooted in a love for plants\, texture\, and storytelling through design\, these pieces invite people to experience greenery in a creative and unexpected way. \nRemington Rock & Tayler Newmann: The Two Loon Saloon \nTwo Loon Craft Saloon channels their affinity for all things crafts into unique and quirky goods like wearables\, jewelry\, home decor\, and more. \nCarol Corning\nDigital Photography \nHannah: Everyday Feast\nDesserts\, Breads\, Dips\, Spreads\, Salads \nCarlie Upchurch: funafraid\nPrints\, Paintings\, Upcycled Jewelry \n  \nSaturday 4/11\nMarket/Exhibit 11am-5pm\nLive music with Tim Ryan and Friends 12pm-1:15pm\nLive music with Terraign 1:30pm-3:15pm\nDJ Carlie Upchurch 3:30pm-5pm \n 
URL:https://boneyardartsfestival.org/event/cloud-mountain-kombucha/
LOCATION:Cloud Mountain Kombucha\, 208 W Griggs St Suite 102\, Urbana\, IL\, 61801\, United States
CATEGORIES:Crafts,Graphic Design,Jewelry/Metals,Kids/Family friendly,Mixed media,Music,Other,Painting,Photography,Printmaking,Special Event,Urbana,Visual Art
ATTACH;FMTTYPE=image/jpeg:https://boneyardartsfestival.org/wp-content/uploads/2022/03/Cloud-Mountain-1.jpg
END:VEVENT
BEGIN:VEVENT
DTSTART;TZID=America/Chicago:20260410T180000
DTEND;TZID=America/Chicago:20260412T170000
DTSTAMP:20260422T205842
CREATED:20260327T210004Z
LAST-MODIFIED:20260410T164546Z
UID:15433-1775844000-1776013200@boneyardartsfestival.org
SUMMARY:The One Main Art Show
DESCRIPTION:Come visit a very talented and eclectic group of local artist. CU’s Drink and Draw group will be showcasing a wide variety of art: from paintings\, illustrations\, photography\, digital art\, graphic tees\, ceramics\, sculptures\, a interactive video installation\, and so much more! \nWe are located at the old Volition Game Studio on the 3rd Floor of One main in Champaign\, IL \nFriday 6:00 PM – 9:00PM\nSaturday 10:00 AM – 6:00 PM\nSunday 10:00 AM – 5:00 PM \nFEATURING: \nJose Vazquez \nCami Vazquez \nJames Taylor \nKaylee Kirkland \nNatalie Troyer \nDennis Jamison \nGrant Thomas \nKeith Self-Ballard \nCameron Raab \nRachel Voyles Weber \nVictor Duarte \nJanelle Jorgensen \nRuoheng Yang (Lucania Arts) \nMatt Currey \nErica Leigh Currey \nPatrick Earl Hammie \nKaleb Wachala \nChelsea Norton \nSharon Wenda \nCarter Boyce \nSydney Bruner \nRalph Roether \nPatrick Weck \nShawn Hensley \nMadlyn Stevens \nAvery Storms \nFraya Replinger \nZoya Wu \nKelly McNellis \nWes Morefield \nHarvester Baker \nVivian Krishnan \nFrank Marquart \nMatt Harsh \nChristina De Angelo \nEileen O’Brien \nBeth Chasco \nDarin Doty \nSheila Parinas \nShauri Gonzalez \nSarah “Vesper” Cameron \nScott Barber \nCailyn Talamonti \nBarbara Benas\nJosh Norman\nIan Nesbitt\nVictor Duarte
URL:https://boneyardartsfestival.org/event/the-one-main-art-show/
CATEGORIES:Champaign,Comics/sequential,Digital,Drawing/Illustration,Fine Art,Graffiti,Graphic Design,Installation,Mixed media,Painting,Photography,Pottery/Ceramics,Printmaking,Screenprinting,Sculpture,Textiles/Fiber,Video/Film,Visual Art
ATTACH;FMTTYPE=image/jpeg:https://boneyardartsfestival.org/wp-content/uploads/2026/03/650367286_10235714698221312_7452729291970136047_n.jpg
END:VEVENT
BEGIN:VEVENT
DTSTART;TZID=America/Chicago:20260410T120000
DTEND;TZID=America/Chicago:20260411T220000
DTSTAMP:20260422T205842
CREATED:20190325T030252Z
LAST-MODIFIED:20260325T151310Z
UID:4734-1775822400-1775944800@boneyardartsfestival.org
SUMMARY:Pour Bros. Taproom
DESCRIPTION:Local Artist and Pour Bros. graphic designer\, Ralph Roether\, will have his gallery on site Friday and Saturday of the Boneyard Festival all-day. Additionally you can experience first-hand how the Pour Bros./Roether partnership first started–Doodle With Ralph! \nRalph started out as a regular and became known for his “Doodles” using permanent markers and bar napkins. Ralph and the doodles became an instant hit with both bartenders and guests. Give us a visit and let your creativity out from 1-4pm Saturday–“Doodle with Ralph”. \nFriday: noon – midnight (gallery only)\nSaturday: noon- 10pm (gallery); 1:00-4:00pm (Doodle with Ralph)
URL:https://boneyardartsfestival.org/event/pour-bros-taproom/
LOCATION:Pour Bros. Taproom\, 40 E. University\, Champaign\, IL\, 61820\, United States
CATEGORIES:Champaign,Drawing/Illustration,Graphic Design,Painting,Sale,Visual Art
ATTACH;FMTTYPE=image/jpeg:https://boneyardartsfestival.org/wp-content/uploads/2019/03/656388713_1541314711330172_7944521263937623729_n.jpg
END:VEVENT
BEGIN:VEVENT
DTSTART;TZID=America/Chicago:20260410T090000
DTEND;TZID=America/Chicago:20260412T200000
DTSTAMP:20260422T205842
CREATED:20220320T010234Z
LAST-MODIFIED:20260323T181507Z
UID:6384-1775811600-1776024000@boneyardartsfestival.org
SUMMARY:The Literary
DESCRIPTION:TINY ART SHOW! Stop by The Literary and view our Tiny Art Show! Featuring the small\, yet beautiful works of many local artists. \nFriday\, 4/10: 9am-9pm\nSaturday\, 4/11: 9am-9pm\nSunday\, 4/12: 9am-8pm \nFEATURING: \nMelissa Goldman\nKristina Reese\nAnneke Schweers Miller\nAlexia Guajardo\nKelly Warner\nDiep Pressley\nTina Johnson\nStephanie Sanchez\nJessica Wiley\nGeorge Boley\nGeorgie Beaulier\nMarca Fleener\nAlexandria Westfall\nMcKenzie Marcum\nMary Van Cleave\nLorraine Graham\nCameron Meerdink\nLauren Klindworth\nAsh Rancour
URL:https://boneyardartsfestival.org/event/the-literary/
LOCATION:The Literary\, 122 N Neil Street\, Champaign\, IL\, 61820\, United States
CATEGORIES:Champaign,Drawing/Illustration,Fine Art,Graphic Design,Mixed media,Painting,Visual Art
ATTACH;FMTTYPE=image/jpeg:https://boneyardartsfestival.org/wp-content/uploads/2022/03/476280746_934011618931523_700075438682165917_n.jpg
END:VEVENT
END:VCALENDAR