 BEGIN:VCALENDAR
VERSION:2.0
PRODID:-//Boneyard Arts Festival - ECPv6.15.20//NONSGML v1.0//EN
CALSCALE:GREGORIAN
METHOD:PUBLISH
X-ORIGINAL-URL:https://boneyardartsfestival.org
X-WR-CALDESC:Events for Boneyard Arts Festival
REFRESH-INTERVAL;VALUE=DURATION:PT1H
X-Robots-Tag:noindex
X-PUBLISHED-TTL:PT1H
BEGIN:VTIMEZONE
TZID:America/Chicago
BEGIN:DAYLIGHT
TZOFFSETFROM:-0600
TZOFFSETTO:-0500
TZNAME:CDT
DTSTART:20250309T080000
END:DAYLIGHT
BEGIN:STANDARD
TZOFFSETFROM:-0500
TZOFFSETTO:-0600
TZNAME:CST
DTSTART:20251102T070000
END:STANDARD
BEGIN:DAYLIGHT
TZOFFSETFROM:-0600
TZOFFSETTO:-0500
TZNAME:CDT
DTSTART:20260308T080000
END:DAYLIGHT
BEGIN:STANDARD
TZOFFSETFROM:-0500
TZOFFSETTO:-0600
TZNAME:CST
DTSTART:20261101T070000
END:STANDARD
BEGIN:DAYLIGHT
TZOFFSETFROM:-0600
TZOFFSETTO:-0500
TZNAME:CDT
DTSTART:20270314T080000
END:DAYLIGHT
BEGIN:STANDARD
TZOFFSETFROM:-0500
TZOFFSETTO:-0600
TZNAME:CST
DTSTART:20271107T070000
END:STANDARD
END:VTIMEZONE
BEGIN:VEVENT
DTSTART;TZID=America/Chicago:20260411T100000
DTEND;TZID=America/Chicago:20260412T160000
DTSTAMP:20260420T145051
CREATED:20250324T023626Z
LAST-MODIFIED:20260408T172223Z
UID:9749-1775901600-1776009600@boneyardartsfestival.org
SUMMARY:Craft League Collab at the Orpheum Theatre
DESCRIPTION:The Craft League Collab is an art experience partnering over 30 artists working in a variety of mediums\, to blend their different styles\, creating works of art that are truly unique. Beyond the Collab Gallery\, in the theater\, you will find our Craft League of CU artists’ market\, exhibiting more of their work. https://www.craftleaguecu.com/ \nCollaborative artworks from members of the Craft League of C-U working in Clay\, Fiber\, Photography\, Painting\, Mixed Media\, Glass\, and more! \nSaturday\, April 11 10-6\nSunday\, April 12 10-4 \nFEATURING: \nPiper Pottery \nEarthstar Creations \nBrittany Heyen \nHooey Batiks \nFabrikate \nThe Quirky Quiltress \nFelt Inspired \nCrass Stitching \nMargaret Krause \nArt By Allie Janae \nGathered Illusions Glass \nGulloGlassWork \nGourDesigns \nKatie Khau \nEKAH \nLydia Puddicombe \nDeana Rose Jewelry LLC \nRed Ember Forge \nCindy Sampson \nKim Caisse \nWesley WIT Foto \nEileen M. O’Brien \nMellie Lia Crafts \nSyd Ray-Lee Ritsema \nCaroline Goldsmith \nPadgetStudio \nWaneDesign llc \nClara de la Fuente \nPhil Strang \nSelma Prado \nElegant Easel \nSalt Prairie Photography \nF. Replinger Photography \nMidwestcapades \nMonarch Alley Prints \n3 Penny Studio \nJudie Spencer
URL:https://boneyardartsfestival.org/event/craft-league-collab-gallery/
LOCATION:Orpheum\, 346 N Neil St\, Champaign\, IL\, 61820\, United States
CATEGORIES:Champaign,Community Art,Crafts,Drawing/Illustration,Fine Art,Found Object,Glass,Jewelry/Metals,Mixed media,Painting,Photography,Pottery/Ceramics,Printmaking,Sale,Screenprinting,Sculpture,Special Event,Textiles/Fiber,Visual Art
ATTACH;FMTTYPE=image/jpeg:https://boneyardartsfestival.org/wp-content/uploads/2025/03/624472033_1617397069849304_3539822645559642832_n-scaled.jpg
END:VEVENT
BEGIN:VEVENT
DTSTART;TZID=America/Chicago:20260411T100000
DTEND;TZID=America/Chicago:20260412T160000
DTSTAMP:20260420T145051
CREATED:20170327T004259Z
LAST-MODIFIED:20260327T152644Z
UID:2797-1775901600-1776009600@boneyardartsfestival.org
SUMMARY:Broken Oak Gallery and Studio
DESCRIPTION:Broken Oak Gallery is located on a wooded property with Camp Creek. We strive to bring nature’s gift to the forefront with paintings and turnings alongside other offerings from varied artists. \nThe exhibit in the Main gallery will be 2D Fine Art paintings by Judith Baker-Barrows along with Fine Art Wood Turnings by Lyndon Barrows. Included are additional selected artworks in clay\, glass\, and jewelry. \nFeaturing:\nNature related paintings in oil and acrylic by Judith Baker-Barrows.\nArtisan Wood Turnings from specialty woods by Lyndon Barrows \nDirections: From Champaign\, Interstate 72 west to White Heath Exit (169)\, turn right\, after approximately 3/4 mile to White Heath\, look for Broken Oak Gallery sign on right\, make a HARD right on Meridian going south 1-1/2 miles to Broken Oak Gallery. Sign in front. (Note: some GPS directions are incorrect and take you north of White Heath – we are 1-1/2 miles SOUTH of White Heath.) Call 217-840-9152 if lost. \nSaturday\, April 10\, 10:00 a.m. – 4:30 p.m.\nSunday\, April 11\, 10:00 a.m. – 4:00 p.m.
URL:https://boneyardartsfestival.org/event/broken-oak-gallery-and-studio/
LOCATION:Broken Oak Gallery and Studio\, 1865 North 1225 East Road\, White Heath\, IL\, 61884\, United States
CATEGORIES:Fine Art,Glass,Jewelry/Metals,Mixed media,Painting,Photography,Pottery/Ceramics,Visual Art,White Heath,Woodworking
ATTACH;FMTTYPE=image/jpeg:https://boneyardartsfestival.org/wp-content/uploads/2017/03/c9f9c8_257e64e432b04828aef4255b339b5876.jpg
END:VEVENT
BEGIN:VEVENT
DTSTART;TZID=America/Chicago:20260410T100000
DTEND;TZID=America/Chicago:20260411T200000
DTSTAMP:20260420T145051
CREATED:20160316T195119Z
LAST-MODIFIED:20260324T230346Z
UID:1560-1775815200-1775937600@boneyardartsfestival.org
SUMMARY:Cinema Gallery
DESCRIPTION:We will showcase new bronze sculptures and new paintings by Peoria artist Preston Jackson\, retired head of sculpture at the School of the Art Institute. Other art on display includes ceramics\, glass\, paintings\, prints\, sculpture\, and studio furniture by 52 Midwestern artists. \nFriday\, 4/10: 10am-8pm\nSaturday\, 4/11: 10am-8pm
URL:https://boneyardartsfestival.org/event/cinema-gallery/
LOCATION:Cinema Gallery\, 120 W. Main\, Urbana\, IL\, 61801\, United States
CATEGORIES:Drawing/Illustration,Fine Art,Glass,Mixed media,Other,Painting,Pottery/Ceramics,Printmaking,Sculpture,Urbana,Visual Art,Woodworking
ATTACH;FMTTYPE=image/jpeg:https://boneyardartsfestival.org/wp-content/uploads/2016/03/481947647_1150270470222543_5831433900867700993_n.jpg
END:VEVENT
BEGIN:VEVENT
DTSTART;TZID=America/Chicago:20260410T100000
DTEND;TZID=America/Chicago:20260411T190000
DTSTAMP:20260420T145051
CREATED:20180330T202116Z
LAST-MODIFIED:20260331T193404Z
UID:3824-1775815200-1775934000@boneyardartsfestival.org
SUMMARY:The Gilbert Gallery
DESCRIPTION:The artists represented by The Gilbert Gallery have become a community!  We will be sharing their talents during the Boneyard Art Festival.  \nOn Friday\, James Wade Powell will be painting in acrylic from 11-2 pm.\nMichael Zachay will be demonstrating his preparation of fused glass rondelays from 2-4 pm.\nThere will be a reception from 5-7 pm – Gaye Harrison will be playing wonderful music on guitar – she is amazing!   \nOn Saturday\, plein air artists from the Wind & Light Plein Air Society will be painting outdoors or indoors if the weather is uncomfortable in our newly acquired art studio across the hall from the gallery. Soyoung Jung will be painting in the gallery on Saturday – what a treat!   \nApril 10th 10:00 am – 7:00 pm\nApril 11th 10:00 am – 7:00 pm \nThe Gallery is on the second floor accessible by steps only. \nFeatured artists: \nDebra Ann – Mobiles\nGary Beaumont  – Ceramics\nBruce Boersma – Ceramics\nKirk Branch – Pen & Ink\nAaron Butcher – Multimedia Monsters\nSalvador Ceniceres – Painting\nJames Connolly  – Glass Construction\nChris Fleming – Metal sculpture\nMark Hillard – Painting\nSteve Hale – Photography\nKen Hirsch – Photography\nSandra Hynds – Watercolor\nC.H. Johnson – Printmaking\nSoyoung Jung – Watercolor\nKevin Kedy – Ceramics\nBarry Kite – Digital collage\nJulie Latayan – Sculpture\nTom Layman – Photography\nJeff Little – Drawing & Painting\nErin Masters – Jewelry\nJames Miner – Ceramics\nAdam Morse – Sculpture\nHua Nian – Collage & Painting\nJillian Nickell – Illustration\nTeresa Pittenger – Painting & Photography\nTimothy Pittenger – Painting\nJames Powell – Painting\nKarl Readel – Painting\nGeorge Ringler – Woodworking\nNetyalka Sroka – Multimedia\nMarjory Seitz – Watercolor\nWes Seitz – Woodworking\nIlene Silverman – Collage\, stained glass\, painting\nJudie Spencer – Beadweaving\nSmith & Silver – Jewelry\nAmy Taylor – Jewelry\nMichael Zachay – Fused glass\nLolita Zwettler – Painting
URL:https://boneyardartsfestival.org/event/gilbert-gallery/
LOCATION:Gilbert Gallery\, 102 W Main\, Urbana\, IL\, 61801\, United States
CATEGORIES:Demo/Workshop,Digital,Drawing/Illustration,Fine Art,Found Object,Glass,Jewelry/Metals,Mixed media,Music,Other,Painting,Photography,Pottery/Ceramics,Printmaking,Reception,Sculpture,Urbana,Visual Art,Woodworking
ATTACH;FMTTYPE=image/jpeg:https://boneyardartsfestival.org/wp-content/uploads/2018/03/8faf6562a0de4ab78256105627737770-1440x629-1.jpg
END:VEVENT
BEGIN:VEVENT
DTSTART;TZID=America/Chicago:20260410T100000
DTEND;TZID=America/Chicago:20260411T170000
DTSTAMP:20260420T145051
CREATED:20250327T005826Z
LAST-MODIFIED:20260326T221147Z
UID:10414-1775815200-1775926800@boneyardartsfestival.org
SUMMARY:Glass FX
DESCRIPTION:Featuring abstract\, traditional\, contemporary designed stained glass windows. \nDezarae Dowers – Stained glass\nMark Hardy – Stained glass\nRichard Taylor – Stained Glass \, Fused glass \nFriday 10-5\nSaturday 10-5
URL:https://boneyardartsfestival.org/event/glass-fx/
LOCATION:Glass FX\, 103 E Clark St\, Champaign\, IL\, 61820\, United States
CATEGORIES:Champaign,Glass,Visual Art
ATTACH;FMTTYPE=image/jpeg:https://boneyardartsfestival.org/wp-content/uploads/2025/03/482000239_1046734037491760_5026086249530465439_n.jpeg
END:VEVENT
END:VCALENDAR