 BEGIN:VCALENDAR
VERSION:2.0
PRODID:-//Boneyard Arts Festival - ECPv6.15.20//NONSGML v1.0//EN
CALSCALE:GREGORIAN
METHOD:PUBLISH
X-ORIGINAL-URL:https://boneyardartsfestival.org
X-WR-CALDESC:Events for Boneyard Arts Festival
REFRESH-INTERVAL;VALUE=DURATION:PT1H
X-Robots-Tag:noindex
X-PUBLISHED-TTL:PT1H
BEGIN:VTIMEZONE
TZID:America/Chicago
BEGIN:DAYLIGHT
TZOFFSETFROM:-0600
TZOFFSETTO:-0500
TZNAME:CDT
DTSTART:20250309T080000
END:DAYLIGHT
BEGIN:STANDARD
TZOFFSETFROM:-0500
TZOFFSETTO:-0600
TZNAME:CST
DTSTART:20251102T070000
END:STANDARD
BEGIN:DAYLIGHT
TZOFFSETFROM:-0600
TZOFFSETTO:-0500
TZNAME:CDT
DTSTART:20260308T080000
END:DAYLIGHT
BEGIN:STANDARD
TZOFFSETFROM:-0500
TZOFFSETTO:-0600
TZNAME:CST
DTSTART:20261101T070000
END:STANDARD
BEGIN:DAYLIGHT
TZOFFSETFROM:-0600
TZOFFSETTO:-0500
TZNAME:CDT
DTSTART:20270314T080000
END:DAYLIGHT
BEGIN:STANDARD
TZOFFSETFROM:-0500
TZOFFSETTO:-0600
TZNAME:CST
DTSTART:20271107T070000
END:STANDARD
END:VTIMEZONE
BEGIN:VEVENT
DTSTART;TZID=America/Chicago:20260411T120000
DTEND;TZID=America/Chicago:20260411T150000
DTSTAMP:20260422T111151
CREATED:20160322T213401Z
LAST-MODIFIED:20260331T190623Z
UID:1802-1775908800-1775919600@boneyardartsfestival.org
SUMMARY:Meadowbrook Interpretive Center
DESCRIPTION:Sculpture Open House: Andy White will be hosted in our annual open house at the Meadowbrook Interpretive Center. Meet the artist and see some of his work as well as a mixed-media youth art exhibit with over 50 pieces of 2D art inspired by his piece “Beauty”\, the latest addition to the Wandell Sculpture Garden. \nSculptor Andy White creates imaginative works of art from found objects\, scrap metal\, mechanical parts\, and more. \nSaturday\, April 11th – 12 to 3pm \nPlease park in the South Race Street lot and walk south to the barn. Please do not park in farm house driveway. \n 
URL:https://boneyardartsfestival.org/event/meadowbrook-interpretive-center/
LOCATION:Meadowbrook Interpretive Center\, 2808 S. Race Street\, Urbana\, IL\, 61802\, United States
CATEGORIES:Community Art,Drawing/Illustration,Found Object,Kids/Family friendly,Mixed media,Sculpture,Urbana,Visual Art
ATTACH;FMTTYPE=image/jpeg:https://boneyardartsfestival.org/wp-content/uploads/2016/03/meadowbrook-barn-scaled.jpg
END:VEVENT
BEGIN:VEVENT
DTSTART;TZID=America/Chicago:20260411T110000
DTEND;TZID=America/Chicago:20260412T160000
DTSTAMP:20260422T111151
CREATED:20260326T182542Z
LAST-MODIFIED:20260326T182542Z
UID:15320-1775905200-1776009600@boneyardartsfestival.org
SUMMARY:Lookforpattern Studio
DESCRIPTION:everyday pattern: quilt interventions \nAn Open Studio & Exhibition Event \n Tim Abel works in reclaimed and found materials\, such as discarded plastics to make their own sewn and quilted works. Their exhibit will showcase their sewn and quilted works with corresponding photo-documentation of their quilts intervening in spaces. \nLocated in the Lincoln Building\, 44 E Main St\, Ste 514 \nSaturday: 11:00 am to 4:00 pm\nSunday: 11:00 am to 4:00 pm
URL:https://boneyardartsfestival.org/event/lookforpattern-studio/
LOCATION:Lincoln Building\, 44 East Main Street\, Champaign\, IL\, 61820\, United States
CATEGORIES:Champaign,Found Object,Mixed media,Textiles/Fiber,Visual Art
ATTACH;FMTTYPE=image/jpeg:https://boneyardartsfestival.org/wp-content/uploads/2026/03/IMG_3044-scaled.jpeg
END:VEVENT
BEGIN:VEVENT
DTSTART;TZID=America/Chicago:20260411T100000
DTEND;TZID=America/Chicago:20260412T160000
DTSTAMP:20260422T111151
CREATED:20250324T023626Z
LAST-MODIFIED:20260408T172223Z
UID:9749-1775901600-1776009600@boneyardartsfestival.org
SUMMARY:Craft League Collab at the Orpheum Theatre
DESCRIPTION:The Craft League Collab is an art experience partnering over 30 artists working in a variety of mediums\, to blend their different styles\, creating works of art that are truly unique. Beyond the Collab Gallery\, in the theater\, you will find our Craft League of CU artists’ market\, exhibiting more of their work. https://www.craftleaguecu.com/ \nCollaborative artworks from members of the Craft League of C-U working in Clay\, Fiber\, Photography\, Painting\, Mixed Media\, Glass\, and more! \nSaturday\, April 11 10-6\nSunday\, April 12 10-4 \nFEATURING: \nPiper Pottery \nEarthstar Creations \nBrittany Heyen \nHooey Batiks \nFabrikate \nThe Quirky Quiltress \nFelt Inspired \nCrass Stitching \nMargaret Krause \nArt By Allie Janae \nGathered Illusions Glass \nGulloGlassWork \nGourDesigns \nKatie Khau \nEKAH \nLydia Puddicombe \nDeana Rose Jewelry LLC \nRed Ember Forge \nCindy Sampson \nKim Caisse \nWesley WIT Foto \nEileen M. O’Brien \nMellie Lia Crafts \nSyd Ray-Lee Ritsema \nCaroline Goldsmith \nPadgetStudio \nWaneDesign llc \nClara de la Fuente \nPhil Strang \nSelma Prado \nElegant Easel \nSalt Prairie Photography \nF. Replinger Photography \nMidwestcapades \nMonarch Alley Prints \n3 Penny Studio \nJudie Spencer
URL:https://boneyardartsfestival.org/event/craft-league-collab-gallery/
LOCATION:Orpheum\, 346 N Neil St\, Champaign\, IL\, 61820\, United States
CATEGORIES:Champaign,Community Art,Crafts,Drawing/Illustration,Fine Art,Found Object,Glass,Jewelry/Metals,Mixed media,Painting,Photography,Pottery/Ceramics,Printmaking,Sale,Screenprinting,Sculpture,Special Event,Textiles/Fiber,Visual Art
ATTACH;FMTTYPE=image/jpeg:https://boneyardartsfestival.org/wp-content/uploads/2025/03/624472033_1617397069849304_3539822645559642832_n-scaled.jpg
END:VEVENT
BEGIN:VEVENT
DTSTART;TZID=America/Chicago:20260410T190000
DTEND;TZID=America/Chicago:20260412T220000
DTSTAMP:20260422T111151
CREATED:20260327T162910Z
LAST-MODIFIED:20260410T163758Z
UID:15396-1775847600-1776031200@boneyardartsfestival.org
SUMMARY:Boneyard Boulders
DESCRIPTION:Boneyard Boulders will host Color and Form\, an exhibition featuring 20+ artists working across a variety of mediums. Showcasing sculpture\, painting\, illustration\, textile arts\, and more\, Color and Form brings together a wide range of artistic approaches in one shared space. Many of the participating artists will also have artwork available for purchase. For those seeking a more active\, hands-on experience\, one of the featured installations will be a climbable collection of rock climbing holds created by a local artist. This unique and memorable feature makes full use of the venue while highlighting the collaborative spirit of the festival. \nFEATURING: \nKatie Khau \nBrittany Norman \nKelly Ceranec \nCassandra Cody \nEmma Brutman \nAndrea Cox \nSujata Dey \nAlfonso Valdes \nLuis Lopez \nLily Dong \nEmilie Butt \nChristopher Reme \nSara Reme \nNick Cragoe \nSara Ballenger \nCurt Walker \nJacob Lockard \nJordan Hartman \nSelma Prado \nMalachi Johnson \nRachel Ferrier \nAccessibility info for the venue:  Two handicap accessible entrances. Front entrance along University acts as our main entrance\, handicap accessible from the parking lot. Secondary entrance from the back is available\, full ramp in the alley on the southside of the building. Preferred as an exit\, but circumstantially can be used as an entrance. Can plan for it to be a full entrance on Friday evening\, less likely subsequent days. \nOpening Reception: Friday\, April 10 at 7:00 PM\nHours:\nFriday: 7–10 PM\nSaturday: 12–10 PM\nSunday: 12–10 PM
URL:https://boneyardartsfestival.org/event/boneyard-boulders/
LOCATION:Boneyard Boulders\, 119 E. University Ave.\, Champaign\, IL\, 61820\, United States
CATEGORIES:Champaign,Comics/sequential,Digital,Drawing/Illustration,Fine Art,Found Object,Mixed media,Painting,Reception,Sculpture,Textiles/Fiber,Visual Art
ATTACH;FMTTYPE=image/jpeg:https://boneyardartsfestival.org/wp-content/uploads/2026/03/655347856_10164827869189042_7581346598764824967_n.jpg
END:VEVENT
BEGIN:VEVENT
DTSTART;TZID=America/Chicago:20260410T170000
DTEND;TZID=America/Chicago:20260412T170000
DTSTAMP:20260422T111151
CREATED:20260325T154705Z
LAST-MODIFIED:20260325T154746Z
UID:15275-1775840400-1776013200@boneyardartsfestival.org
SUMMARY:The Twisted Coloring Book
DESCRIPTION:All of our artists are being featured and we are so thankful to each of them for being a part of The Twisted Coloring Book’s first Boneyard! From acrylic paintings\, metal found object sculptures and jewelry\, cosplay costumes to mixed media fiber art\, ceramic sculpture\, and digital paintings. We have a little bit of everything! \nWe will have three workshops- Friday evening\, Saturday afternoon\, and Sunday afternoon. These workshops have limited seats and more information will be available on our website the first of April. Each day we will have hands on activities: We will be creating a community rag rug that folks can add on to\, drawing and fiber activities!\nCLICK HERE for for info on our workshops! \nFEATURING:\nEmily Alley\nLeviticus Moore\nSara Jones\nAnn Alley\nSheila Parinas \nWe are located in the Lincoln Building – 44 E. Main St\, Suite 403 \nFriday: 5-9pm\nSaturday: 12-5pm\nSunday: 12-5pm
URL:https://boneyardartsfestival.org/event/the-twisted-coloring-book/
LOCATION:Lincoln Building\, 44 East Main Street\, Champaign\, IL\, 61820\, United States
CATEGORIES:Champaign,Demo/Workshop,Digital,Drawing/Illustration,Found Object,Jewelry/Metals,Mixed media,Painting,Pottery/Ceramics,Sculpture,Textiles/Fiber,Visual Art
ATTACH;FMTTYPE=image/jpeg:https://boneyardartsfestival.org/wp-content/uploads/2026/03/twisted.jpg
END:VEVENT
BEGIN:VEVENT
DTSTART;TZID=America/Chicago:20260410T170000
DTEND;TZID=America/Chicago:20260411T170000
DTSTAMP:20260422T111151
CREATED:20260324T224520Z
LAST-MODIFIED:20260324T224520Z
UID:15231-1775840400-1775926800@boneyardartsfestival.org
SUMMARY:CU Glass
DESCRIPTION:Glen C. Davies will feature an array of collage and assemblage art pieces and acrylic banner paintings \nRobb Springfield will exhibit his horizontal gouache landscape paintings of Urbana\, Illinois \nGerald Guthrie will exhibit his vintage cigar box automata mixed media objects \nFriday\, April 10\, 5-9pm\nSaturday\, April 11\, 12-5pm
URL:https://boneyardartsfestival.org/event/cu-glass/
LOCATION:CU Glass\, 307 S. Neil St.\, Champaign\, IL\, 61820\, United States
CATEGORIES:Champaign,Fine Art,Found Object,Mixed media,Painting,Visual Art
ATTACH;FMTTYPE=image/jpeg:https://boneyardartsfestival.org/wp-content/uploads/2026/03/Untitled-5.jpg
END:VEVENT
BEGIN:VEVENT
DTSTART;TZID=America/Chicago:20260410T160000
DTEND;TZID=America/Chicago:20260412T160000
DTSTAMP:20260422T111151
CREATED:20250328T025144Z
LAST-MODIFIED:20260331T190754Z
UID:10565-1775836800-1776009600@boneyardartsfestival.org
SUMMARY:Needful Things Warehouse Gallery
DESCRIPTION:Fine art painter Beth Darling will be exhibiting vibrant landscapes of the southwest\, local gardens and whimsical still lives. \nJill Quisenberry will be exhibiting landscape watercolor paintings\, acrylic paintings\, paintings on tile and Santorini stone. Jill will also have book corners that are hand painted watercolor with gold leaf. \nApril Lucas will be exhibiting repurposed antiques\, mushroom art assemblages and vintage tin vignettes. \nMelissa Mitchell will be exhibiting 3-D sculptural assemblages from unusual objects. \nBeth Darling: Beth Darling’s imaginative gardening\, southwest and still life oils and acrylic paintings\, painted in a style she calls “direct observational realism\,” convey her joyful celebration of life. Her unconventional\, often whimsical choice of subjects rendered in a juicy impasto of brilliant colors and rich patterns achieve a childlike simplicity in spite of her years of formal training. Her works are serious paintings but their refreshing honesty makes them optimistic and lighthearted. Beth’s works can be seen in her large sunny studio on the top floor of the historic Lincoln Building at 44 E Main St.\, Downtown Champaign. \nJill Quisenberry: Jill Quisenberry\, Medium – Watercolors\, Acrylics\, and Mixed Media. Jill will be exhibiting watercolor paintings\, acrylic paintings\, paintings on tile and Santorini stone. Jill will also have book corners that are hand painted watercolor with gold leaf. Jill’s watercolors and larger scale acrylic paintings are mostly landscapes. Jill Quisenberry – is a retired elementary school teacher who sees art as a way to share beauty and as therapy for the artist.  Jill wants the viewer to feel peace and enjoy a little window into a calming space.  Jill enjoys many different styles and ways to convey my emotions as artistic production.  Jill’s art can be seen and purchased on Facebook @ JillQuisenberry\, or Instagram @ mrsqberry  and is also located at The Vault Art Gallery in Tuscola\, IL \nMelissa Mitchell: Melissa Mitchell is a Champaign-based assemblage/creative-reuse artist\, photographer\, writer and collector of vintage and other unusual objects. The lines dividing her multiple identities tend to blur and shift — often without warning. Collectibles from home and garden décor are sometimes co-opted for use in assemblage sculptures or become photographic subjects. She has exhibited and sold her work in juried exhibitions and galleries locally and throughout the United States. Mitchell’s work may be viewed at her ACME Elfworks studio in downtown Champaign by appointment; contact: ACMEelfworks@gmail.com \nApril Lucas: April Lucas is a retired florist and active craftsperson specializing in repurposed antiques and vintage tin vignettes. Aprils works can often be found at local and regional arts and crafts shows. She may be reached for private viewing at psychoflorist@gmail.com. \nAPRIL 10 FRI 4 – 9 • OPENING RECEPTION\nAPRIL 11 SAT 12 – 8\nAPRIL 12 SUN 12 – 4
URL:https://boneyardartsfestival.org/event/needful-things-warehouse-gallery/
LOCATION:Needful Things Warehouse Gallery\, 100 N. Chestnut Street\, Champaign\, IL\, 61820\, United States
CATEGORIES:Champaign,Found Object,Mixed media,Painting,Reception,Visual Art
ATTACH;FMTTYPE=image/jpeg:https://boneyardartsfestival.org/wp-content/uploads/2025/03/658429659_122188252856523719_8403681070382113009_n.jpg
END:VEVENT
BEGIN:VEVENT
DTSTART;TZID=America/Chicago:20260410T150000
DTEND;TZID=America/Chicago:20260413T210000
DTSTAMP:20260422T111151
CREATED:20180330T234551Z
LAST-MODIFIED:20260327T155024Z
UID:3890-1775833200-1776114000@boneyardartsfestival.org
SUMMARY:Quality
DESCRIPTION:Explore the intersection of policy and possibility in this multi-disciplinary exhibit. This show pairs data-driven maps on the Champaign-Urbana housing shortage with tactile found-object collages\, evocative photography\, and visionary architectural designs reimagining the Urbana Civic Center. Visitors are invited to “cut through the red tape” with hands-on interactive community installations. \nCUrbanism Club presents an exhibit of Champaign cartographic studies and interactive installations\, featuring found-object collages by local artist Abby Kipping. They are joined by photographer Fraya Replinger\, whose macro and landscape photography captures beauty in places small and wide. The venue also showcases renderings and architectural drawings by University of Illinois School of Architecture students\, curated by Professor Joseph Altshuler. \nFriday: 3pm-9pm\, Opening Reception 5pm-7pm\nSaturday: 3pm-9pm\nSunday: 3pm-9pm
URL:https://boneyardartsfestival.org/event/quality-beer/
LOCATION:Quality Beer\, 110 N Neil\, Champaign\, 61820\, United States
CATEGORIES:Champaign,Community Art,Drawing/Illustration,Found Object,Mixed media,Photography,Reception,Visual Art
ATTACH;FMTTYPE=image/jpeg:https://boneyardartsfestival.org/wp-content/uploads/2018/03/www-smilepolitely-com-splog_uploads-19082-200897_471608699545754_1895133661_o-800x4001-1.jpg
END:VEVENT
BEGIN:VEVENT
DTSTART;TZID=America/Chicago:20260410T110000
DTEND;TZID=America/Chicago:20260412T170000
DTSTAMP:20260422T111151
CREATED:20230326T201924Z
LAST-MODIFIED:20260327T223240Z
UID:7225-1775818800-1776013200@boneyardartsfestival.org
SUMMARY:Seating and More
DESCRIPTION:Seating and More is proud to house the work of local artist\, ArtbyDirt\, who creates welded sculptures together exclusively from American-made motorcycle parts. From tiny tractors that fit in the palm of your hand to an eagle that takes up an entire corner\, Dirt creates pieces of all shapes\, subjects\, and sizes in the spirit of benefit work. Dirt himself will be present for an artist meet and greet on Friday and Saturday. \nArtbyDirt works exclusively with parts from American motorcycles\, welding them into unique pieces both large and small. His subjects are inspired by the shapes and identities of parts he works with\, ranging from race cars and tractors to delicate roses and merry-go-rounds. Through an organic process of cutting\, welding\, and painting\, Dirt creates timeless\, treasured pieces in the spirit of benefit work. \nThe gallery will be open during Seating and More’s regular hours of operation:\nFriday\, April 10: 11 AM-6 PM\nSaturday\, April 11: 10 AM-5 PM\nSunday\, April 12: 10 AM-5 PM \nThe artist\, Dirt\, will be at the gallery for the open reception/Meet the Artist during the following times: Friday\, April 10: 2 PM-6 PM Saturday\, April 11: 2 PM-5 PM
URL:https://boneyardartsfestival.org/event/seating-and-more/
LOCATION:Seating and More\, 1749 West Kirby\, Champaign\, IL\, 61821\, United States
CATEGORIES:Champaign,Found Object,Jewelry/Metals,Mixed media,Sculpture
ATTACH;FMTTYPE=image/jpeg:https://boneyardartsfestival.org/wp-content/uploads/2023/03/e32fc803-74dc-4c7b-9e11-846b8d293a7a.jpg
END:VEVENT
BEGIN:VEVENT
DTSTART;TZID=America/Chicago:20260410T100000
DTEND;TZID=America/Chicago:20260412T200000
DTSTAMP:20260422T111151
CREATED:20260323T223240Z
LAST-MODIFIED:20260323T223240Z
UID:14934-1775815200-1776024000@boneyardartsfestival.org
SUMMARY:Horizon Climbing
DESCRIPTION:The art gallery featuring Gertie Bakalus is located in Horizon Climbing’s front lobby! Following our opening reception on April 11th at 6pm\, guests are welcome to rock climb at half price ($10 per person). Further inside the gym\, you can enjoy our mural artwork by Leslie Kimble. Our climbing gym welcomes adults and kids of all ages! \nGertie Bakalus: The featured artist works with recycled fabrics and clothing rescued from the landfill\, using appliqué quilting techniques to explore landscapes and places. The pieces are crafted through a collage-like process of cutting\, layering\, and stitching fabric\, using simple shapes and materials with varied patterns. Shapes\, colors\, textures\, and stitches create depth and movement\, translating familiar environments into layered\, tactile compositions. \nLeslie Kimble: Leslie has two semi-permanent works of art in Horizon Climbing. Her colorful window painting can be enjoyed from both outside and inside the gym. Further inside\, her stunning sunrise mural adds warmth and beauty to the space. \nThere is no admission fee for the opening reception or to enjoy the gallery in our front lobby. If you would like to climb following the opening reception\, it will be $10 per person. \nOpening reception: April 11th at 6PM\nArt gallery/gym hours: Monday through Saturday 10AM-10PM; Sundays 10AM-8PM
URL:https://boneyardartsfestival.org/event/horizon-climbing/
LOCATION:Horizon Climbing\, 1914 Round Barn Rd. Suite A\, Champaign\, IL\, 61821\, United States
CATEGORIES:Champaign,Found Object,Mixed media,Mural,Painting,Textiles/Fiber
ATTACH;FMTTYPE=image/png:https://boneyardartsfestival.org/wp-content/uploads/2026/03/475761967_122114555810739240_1988484101038631255_n.png
END:VEVENT
BEGIN:VEVENT
DTSTART;TZID=America/Chicago:20260410T100000
DTEND;TZID=America/Chicago:20260411T190000
DTSTAMP:20260422T111151
CREATED:20180330T202116Z
LAST-MODIFIED:20260331T193404Z
UID:3824-1775815200-1775934000@boneyardartsfestival.org
SUMMARY:The Gilbert Gallery
DESCRIPTION:The artists represented by The Gilbert Gallery have become a community!  We will be sharing their talents during the Boneyard Art Festival.  \nOn Friday\, James Wade Powell will be painting in acrylic from 11-2 pm.\nMichael Zachay will be demonstrating his preparation of fused glass rondelays from 2-4 pm.\nThere will be a reception from 5-7 pm – Gaye Harrison will be playing wonderful music on guitar – she is amazing!   \nOn Saturday\, plein air artists from the Wind & Light Plein Air Society will be painting outdoors or indoors if the weather is uncomfortable in our newly acquired art studio across the hall from the gallery. Soyoung Jung will be painting in the gallery on Saturday – what a treat!   \nApril 10th 10:00 am – 7:00 pm\nApril 11th 10:00 am – 7:00 pm \nThe Gallery is on the second floor accessible by steps only. \nFeatured artists: \nDebra Ann – Mobiles\nGary Beaumont  – Ceramics\nBruce Boersma – Ceramics\nKirk Branch – Pen & Ink\nAaron Butcher – Multimedia Monsters\nSalvador Ceniceres – Painting\nJames Connolly  – Glass Construction\nChris Fleming – Metal sculpture\nMark Hillard – Painting\nSteve Hale – Photography\nKen Hirsch – Photography\nSandra Hynds – Watercolor\nC.H. Johnson – Printmaking\nSoyoung Jung – Watercolor\nKevin Kedy – Ceramics\nBarry Kite – Digital collage\nJulie Latayan – Sculpture\nTom Layman – Photography\nJeff Little – Drawing & Painting\nErin Masters – Jewelry\nJames Miner – Ceramics\nAdam Morse – Sculpture\nHua Nian – Collage & Painting\nJillian Nickell – Illustration\nTeresa Pittenger – Painting & Photography\nTimothy Pittenger – Painting\nJames Powell – Painting\nKarl Readel – Painting\nGeorge Ringler – Woodworking\nNetyalka Sroka – Multimedia\nMarjory Seitz – Watercolor\nWes Seitz – Woodworking\nIlene Silverman – Collage\, stained glass\, painting\nJudie Spencer – Beadweaving\nSmith & Silver – Jewelry\nAmy Taylor – Jewelry\nMichael Zachay – Fused glass\nLolita Zwettler – Painting
URL:https://boneyardartsfestival.org/event/gilbert-gallery/
LOCATION:Gilbert Gallery\, 102 W Main\, Urbana\, IL\, 61801\, United States
CATEGORIES:Demo/Workshop,Digital,Drawing/Illustration,Fine Art,Found Object,Glass,Jewelry/Metals,Mixed media,Music,Other,Painting,Photography,Pottery/Ceramics,Printmaking,Reception,Sculpture,Urbana,Visual Art,Woodworking
ATTACH;FMTTYPE=image/jpeg:https://boneyardartsfestival.org/wp-content/uploads/2018/03/8faf6562a0de4ab78256105627737770-1440x629-1.jpg
END:VEVENT
BEGIN:VEVENT
DTSTART;TZID=America/Chicago:20260410T073000
DTEND;TZID=America/Chicago:20260412T200000
DTSTAMP:20260422T111151
CREATED:20190403T062021Z
LAST-MODIFIED:20260325T235240Z
UID:5220-1775806200-1776024000@boneyardartsfestival.org
SUMMARY:The Idea Store
DESCRIPTION:Come and see the wealth of creative options available from The Idea Store! \nMembers of The Idea Store staff and our volunteers will be providing art to be displayed in our windows – all items in the display will be made from materials sourced from The Idea Store. \nAll of our display will be outward facing so that people walking through the mall can see the art work during mall hours.
URL:https://boneyardartsfestival.org/event/the-idea-store/
LOCATION:The Idea Store\, 125 Lincoln Square\, Urbana\, IL\, 61801
CATEGORIES:Crafts,Found Object,Kids/Family friendly,Mixed media,Textiles/Fiber,Urbana,Visual Art
ATTACH;FMTTYPE=image/jpeg:https://boneyardartsfestival.org/wp-content/uploads/2019/04/make-art-not-trash-840.jpg
END:VEVENT
BEGIN:VEVENT
DTSTART;TZID=America/Chicago:20260410T070000
DTEND;TZID=America/Chicago:20260412T150000
DTSTAMP:20260422T111151
CREATED:20250327T004603Z
LAST-MODIFIED:20260325T223903Z
UID:10409-1775804400-1776006000@boneyardartsfestival.org
SUMMARY:Flying Machine Avionics
DESCRIPTION:Featuring Dorota Erdman at Flying Machine Avionics! \n“This recent series of mixed media collages is a direct result of these early and current influences. I still look for treasures\, old photographs\, found objects\, recycled papers\, plants\, in order to give them a new life. I still arrange them in stories or self contained worlds. Their small scale is a nod to my mother’s work and an invitation to study my works up-close\, carefully noticing every detail.” \nMixed media collages using old photographs\, found objects\, recycled papers\, and plants. \nFriday\, 7am-6pm\nSaturday\, 8am-3pm\nSunday\, 8am-3pm
URL:https://boneyardartsfestival.org/event/flying-machine-avionics/
LOCATION:Flying Machine Avionics\, 202 S. 1st St\, Champaign\, IL\, 61820\, United States
CATEGORIES:Champaign,Found Object,Mixed media,Visual Art
ATTACH;FMTTYPE=image/jpeg:https://boneyardartsfestival.org/wp-content/uploads/2025/03/381052988_1015203809774570_5468830584347968529_n-1.jpg
END:VEVENT
BEGIN:VEVENT
DTSTART;TZID=America/Chicago:20260409T170000
DTEND;TZID=America/Chicago:20260411T180000
DTSTAMP:20260422T111151
CREATED:20160318T213420Z
LAST-MODIFIED:20260330T174743Z
UID:1702-1775754000-1775930400@boneyardartsfestival.org
SUMMARY:Krannert Art Museum
DESCRIPTION:Come explore exhibitions on view at Krannert Art Museum (KAM) including Another Place: Storymaking the Entangled Prairie (featuring 11 artists on faculty in the School of Art & Design)\, Memorias de la Mujer Lotina: Arpilleras\, Women\, and Coal in Chile\, the MFA Exhibition; Encounters: The Arts of Africa\, Art Since 1948\, Fragmented Histories: Andean Art Before 1600\, Historical American and European Art Collections\, Well-Designed Beauty: Trade\, Technology\, and Decorative Arts\, and our Ancient Mediterranean collection. Enjoy three exciting Boneyard events: KAM’s Teen Night at the Art Museum\, Improvisers Exchange: Sonic Location\, and MFA Exhibition Opening Reception. \n\n\n\nLocal artist names from Another Place: Storymaking the Entangled Prairie: \nRyan Griffis\nEmmy Lingscheit\nMelissa Pokorny\nSharath Chandra Ramakrishnan\nStacey A. Robinson\nJoel Ross\nStephen Signa-Avilés\nBlair Ebony Smith\nNekita Thomas\nDeke Weaver\nBrooke C. White \nLocal artist names for MFA Exhibition: \nJose Cabada\nOriana Crutcher\nGrey Dey\nSamantha Jones\nJustin Kim\nAnthony Obayomi\n(Ted) Fengzhuo Shao\nEmily Tomlinson \n\n\n\n4/9 · Teen Night at the Art Museum for Boneyard! 5–7:30 pm Calling all teens! Join us for a teen takeover of the museum featuring live music\, art-making\, activities\, and food for young people in middle school and high school as part of Boneyard Arts Festival. Explore our galleries and flex your creative muscles during this teen night at the museum! Includes a pop-up exhibition of works by ArtSpeak\, our teen museum interns from Rantoul High School. \n4/11 · Improvisers Exchange: Sonic Location 1–3 pm Experience immersive sound as you view artwork at Krannert Art Museum! Curated by Jason Finkelman\, director of Global Arts Performance Initiatives at Krannert Center for the Performing Arts. A Boneyard Arts Festival and Mom’s Weekend event. \n4/11 · MFA Exhibition Opening Reception 4–6 pm \nKrannert Art Museum is open Friday 10am-5pm and Saturday 10am-4pm. We are closed Sundays.
URL:https://boneyardartsfestival.org/event/krannert-art-museum/
LOCATION:Krannert Art Museum\, 500 East Peabody Drive\, Champaign\, IL\, 61820\, United States
CATEGORIES:Campus,Champaign,Drawing/Illustration,Fine Art,Found Object,Installation,Kids/Family friendly,Mixed media,Painting,Photography,Pottery/Ceramics,Printmaking,Reception,Sculpture,Textiles/Fiber,Visual Art,World Music
ATTACH;FMTTYPE=image/jpeg:https://boneyardartsfestival.org/wp-content/uploads/2016/03/KAM.jpg
END:VEVENT
END:VCALENDAR