 BEGIN:VCALENDAR
VERSION:2.0
PRODID:-//Boneyard Arts Festival - ECPv6.15.20//NONSGML v1.0//EN
CALSCALE:GREGORIAN
METHOD:PUBLISH
X-WR-CALNAME:Boneyard Arts Festival
X-ORIGINAL-URL:https://boneyardartsfestival.org
X-WR-CALDESC:Events for Boneyard Arts Festival
REFRESH-INTERVAL;VALUE=DURATION:PT1H
X-Robots-Tag:noindex
X-PUBLISHED-TTL:PT1H
BEGIN:VTIMEZONE
TZID:America/Chicago
BEGIN:DAYLIGHT
TZOFFSETFROM:-0600
TZOFFSETTO:-0500
TZNAME:CDT
DTSTART:20250309T080000
END:DAYLIGHT
BEGIN:STANDARD
TZOFFSETFROM:-0500
TZOFFSETTO:-0600
TZNAME:CST
DTSTART:20251102T070000
END:STANDARD
BEGIN:DAYLIGHT
TZOFFSETFROM:-0600
TZOFFSETTO:-0500
TZNAME:CDT
DTSTART:20260308T080000
END:DAYLIGHT
BEGIN:STANDARD
TZOFFSETFROM:-0500
TZOFFSETTO:-0600
TZNAME:CST
DTSTART:20261101T070000
END:STANDARD
BEGIN:DAYLIGHT
TZOFFSETFROM:-0600
TZOFFSETTO:-0500
TZNAME:CDT
DTSTART:20270314T080000
END:DAYLIGHT
BEGIN:STANDARD
TZOFFSETFROM:-0500
TZOFFSETTO:-0600
TZNAME:CST
DTSTART:20271107T070000
END:STANDARD
END:VTIMEZONE
BEGIN:VEVENT
DTSTART;TZID=America/Chicago:20260411T140000
DTEND;TZID=America/Chicago:20260411T190000
DTSTAMP:20260421T043128
CREATED:20220322T163412Z
LAST-MODIFIED:20260325T152035Z
UID:6589-1775916000-1775934000@boneyardartsfestival.org
SUMMARY:High Cross Art Studios
DESCRIPTION:The gallery area at High Cross Art Studio will display artwork from four artists for the “Come Out and Play” group show by Queerfam. \n \nQueerfam is a collective whose talent spans a wide range of visual and tactile offerings: papermaking\, ceramics\, sculpture\, embroidery\, printmaking\, drawing\, wax\, bricolage\, video\, sewing\, assemblage\, and found object art. “Come Out and Play” is an exhibit featuring selected artworks from each of the artists’ studios from the past six years until the present moment. Join us at High Cross Studios for the opening reception on Saturday\, April 11 from 2pm-7pm. \nAfter Boneyard Arts Festival\, the show is open until May 25th by appointment only. Email ollygreerart@gmail.com to set up an appointment. \nSaturday\, 4/11: 2-7pm
URL:https://boneyardartsfestival.org/event/high-cross-art-studios/
LOCATION:High Cross Studios\, 1101 N. High Cross rd.\, Urbana\, IL\, 61802\, United States
CATEGORIES:Drawing/Illustration,Fashion,Fine Art,Mixed media,Painting,Pottery/Ceramics,Printmaking,Sculpture,Textiles/Fiber,Urbana,Video/Film,Visual Art
ATTACH;FMTTYPE=image/jpeg:https://boneyardartsfestival.org/wp-content/uploads/2022/03/010-scaled-1.jpg
END:VEVENT
BEGIN:VEVENT
DTSTART;TZID=America/Chicago:20260411T150000
DTEND;TZID=America/Chicago:20260412T190000
DTSTAMP:20260421T043128
CREATED:20160323T021803Z
LAST-MODIFIED:20260327T180313Z
UID:1909-1775919600-1776020400@boneyardartsfestival.org
SUMMARY:Exile on Main Street
DESCRIPTION:Leslie Kimble will be painting a mobile mural during the live music that community members can paint along with her as a collaborative backdrop for selfies during the Boneyard Festival. Dave Pride will be providing the live musical performance during that time. \nSaturday 4/11\, 3-5pm (Live painting and musical performance)\nSunday 4/12\, 11am-7pm (Mobile Mural available for selfies) \n 
URL:https://boneyardartsfestival.org/event/exile-on-main-street/
LOCATION:Exile on Main Street\, 100 N. Chestnut Street Suite 120\, Champaign\, IL\, 61820\, United States
CATEGORIES:Champaign,Fine Art,Mural,Music,Painting,Performance,Visual Art
ATTACH;FMTTYPE=image/jpeg:https://boneyardartsfestival.org/wp-content/uploads/2016/03/exile-2-scaled.jpg
END:VEVENT
BEGIN:VEVENT
DTSTART;TZID=America/Chicago:20260412T060000
DTEND;TZID=America/Chicago:20260412T114500
DTSTAMP:20260421T043128
CREATED:20160317T203820Z
LAST-MODIFIED:20260330T172538Z
UID:1654-1775973600-1775994300@boneyardartsfestival.org
SUMMARY:UIUC Graduate South Studios
DESCRIPTION:Visit the University of Illinois South Studios complex and meet the Studio Art MFA candidates in their graduate studios. Current students are working in painting\, printmaking\, sculpture\, textiles\, drawing\, collage\, animation\, photography\, and social practice. Events include textile workshops\, drop-in artmaking activities\, artworks for sale\, panel conversation\, publication release\, plant sale\, and light refreshments. \nSUNDAY\, APRIL 12: \n11:00am-12:30pm Photoembroidery Workshop\nVictoria Schiodtz\nLocation: Building 5\nCLICK HERE to Register! \n1:00-3:00pm Wardrobe Workshop ($5 deposit- to be returned at the workshop) \nLab Thair Thursday and Jennie Maydew\nLocation: Building 2\nCLICK HERE to Register! \n4:00-4:45pm Publication Release and Panel Conversation\nLocation: Building 2 \n11:00am-4:00pm Collage and Button Making\nThursday Talcott\nLocation: Building 6 \n11:00am-4:00pm Printmaking Shop\nIndigo Rodríguez\nLocation: Building 2 \n11:00am-4:00pm Plant Sale\nLocation: Building 2 \n11:00am-4:00pm DIY Popcorn Bar\nLocation: Building 6 \n\n\n\nDriveways are gravel and doors are not automatic — though\, there are no stairs or ramps to worry about\, and doors will be propped open. \nIndigo Rodríguez is an artist and writer interrogating representation\, erasure\, and the confrontational nature of normative assumptions. He draws upon multiple disciplines to create sculptures and installations — working with materials in disrepair to challenge what is thought to be worthy of artistic attention. \n\n\n\nJennie Maydew explores how an interdisciplinary social practice can playfully dissolve prescription\, emphasize process\, and keep our personal and communal gifts in motion. Through an inquiry into alternate economies\, (fun)ctionality\, and the concept of play as serious work\, she centers the nature and urgency of our obligations to past\, present\, and future beings. Creating the conditions where questions can be collectively tended\, Jennie delays certainty to recognize attention\, attunement\, and ambivalence as life-sustaining strategies. \nVictoria Schiodtz is an intermedial artist born in Viña Del Mar\, Chile\, in 1998. She attended the Pontificia Universidad Católica de Valparaíso\, receiving a Bachelor’s degree in Fine Art in 2021. Her body of work and exploration orbit the concepts of trauma\, memory\, body and origin. Victoria currently lives in Urbana\, Illinois\, where she is an MFA in Studio Art candidate at the University of Illinois Urbana-Champaign. \nThair Thursday – Sculptor\, animator\, fiber artist//organizer\, gardener\, friend//trans\, queer\, fag \n 
URL:https://boneyardartsfestival.org/event/south-studio/
LOCATION:South Studios\, 2109 Griffith Dr\, Chamapign\, IL\, 61820\, United States
CATEGORIES:Campus,Demo/Workshop,Drawing/Illustration,Fine Art,Installation,Mixed media,Painting,Photography,Printmaking,Reading,Reception,Sculpture,Textiles/Fiber,Visual Art
ATTACH;FMTTYPE=image/jpeg:https://boneyardartsfestival.org/wp-content/uploads/2016/03/south-studios.jpg
END:VEVENT
BEGIN:VEVENT
DTSTART;TZID=America/Chicago:20260412T113000
DTEND;TZID=America/Chicago:20260412T133000
DTSTAMP:20260421T043128
CREATED:20160317T203230Z
LAST-MODIFIED:20260412T145341Z
UID:1652-1775993400-1776000600@boneyardartsfestival.org
SUMMARY:Illini Hillel Cohen Center for Jewish Life at the University of Illinois at Urbana Champaign
DESCRIPTION:Illini Hillel is thrilled to once again exhibit art from several different Jewish student artists. Visitors can enjoy art in a variety of mediums from multimedia to photography to jewelry. \nFeatured artists:  \nRaquel Altman – Digital art\, oil paintings\nAmanda Sekili – Photography\nCydnee Weber – Acrylics\nMaxine Katz – Photography\, prints \nSunday\, April 12\, 11:30am-1:30pm \n  \n 
URL:https://boneyardartsfestival.org/event/hillel/
LOCATION:Hillel\, 503 E John St\, Champaign\, IL\, 61820\, United States
CATEGORIES:Campus,Digital,Fine Art,Painting,Photography,Visual Art
ATTACH;FMTTYPE=image/jpeg:https://boneyardartsfestival.org/wp-content/uploads/2016/03/UIUC_Hillel_Front.jpg
END:VEVENT
BEGIN:VEVENT
DTSTART;TZID=America/Chicago:20260412T130000
DTEND;TZID=America/Chicago:20260412T160000
DTSTAMP:20260421T043128
CREATED:20180401T031209Z
LAST-MODIFIED:20260327T211136Z
UID:3919-1775998800-1776009600@boneyardartsfestival.org
SUMMARY:Tolono Outpost
DESCRIPTION:Outpost at 117 E Main in downtown Tolono will be hosted in the warehouse East of the Loose Cobra\, featuring local artists across multiple mediums. Peruse the displayed pieces from our talented friends\, and join us at the Loose Cobra for live music to follow! \nFeatured Artists: \nMike Coulter | painting\nJimmy Crawford | painting\nDouglas Kistler | concrete design\nTroy Michael | acrylic on canvas\nMatt Talbott | acrylic and oil paint/analog film loops\nMike Coulter | acrylic paint\nBrian Sullan | acrylic paint and digital art\nMarti Sullan | painting\nLauren White | multi-media paintings\nMad Witruk | acrylic on canvas/ water-based screen printing \nSunday 4/12\, 1-4pm\nTolono Outpost Warehouse 117 E Main St\, Tolono\, IL 61880 \n 
URL:https://boneyardartsfestival.org/event/tolono-art-collective/
LOCATION:Tolono Outpost\, 117 E Main St\, Tolono\, IL\, 61880\, United States
CATEGORIES:Digital,Fine Art,Painting,Sculpture,Tolono,Visual Art
ATTACH;FMTTYPE=image/jpeg:https://boneyardartsfestival.org/wp-content/uploads/2018/03/outpost.jpg
END:VEVENT
BEGIN:VEVENT
DTSTART;TZID=America/Chicago:20260412T130000
DTEND;TZID=America/Chicago:20260412T170000
DTSTAMP:20260421T043128
CREATED:20160316T220710Z
LAST-MODIFIED:20260326T160202Z
UID:1607-1775998800-1776013200@boneyardartsfestival.org
SUMMARY:Hua Nian Art Studio
DESCRIPTION:Features local artist and art instructor Hua Nian‘s acrylic paintings and small watercolor paintings. \nFree and fun watercolor lesson for adults and seniors – We will create a small painting about flowers to celebrate the begin of the spring!\nDetails: All materials will be provided\, but you are encouraged to bring your own watercolor paints if you have them.\nClass Size: 4-10 participants\nSign Up: Please contact Hua Nian at nianart@gmail.com to check availability and reserve a spot. \nStreet parking available. \nOpen hours: 1-5pm\, Sunday\, April 12th\nWatercolor Lesson: 3:00–4:30 PM
URL:https://boneyardartsfestival.org/event/hua-nian-art-studio/
LOCATION:Hua Nian Art Studio\, 1308 South Race Street\, Urbana\, IL\, 61801\, United States
CATEGORIES:Demo/Workshop,Fine Art,Painting,Urbana,Visual Art
ATTACH;FMTTYPE=image/jpeg:https://boneyardartsfestival.org/wp-content/uploads/2016/03/Fortune-Teller-1222x2022-1.jpeg
END:VEVENT
END:VCALENDAR