 BEGIN:VCALENDAR
VERSION:2.0
PRODID:-//Boneyard Arts Festival - ECPv6.15.20//NONSGML v1.0//EN
CALSCALE:GREGORIAN
METHOD:PUBLISH
X-ORIGINAL-URL:https://boneyardartsfestival.org
X-WR-CALDESC:Events for Boneyard Arts Festival
REFRESH-INTERVAL;VALUE=DURATION:PT1H
X-Robots-Tag:noindex
X-PUBLISHED-TTL:PT1H
BEGIN:VTIMEZONE
TZID:America/Chicago
BEGIN:DAYLIGHT
TZOFFSETFROM:-0600
TZOFFSETTO:-0500
TZNAME:CDT
DTSTART:20250309T080000
END:DAYLIGHT
BEGIN:STANDARD
TZOFFSETFROM:-0500
TZOFFSETTO:-0600
TZNAME:CST
DTSTART:20251102T070000
END:STANDARD
BEGIN:DAYLIGHT
TZOFFSETFROM:-0600
TZOFFSETTO:-0500
TZNAME:CDT
DTSTART:20260308T080000
END:DAYLIGHT
BEGIN:STANDARD
TZOFFSETFROM:-0500
TZOFFSETTO:-0600
TZNAME:CST
DTSTART:20261101T070000
END:STANDARD
BEGIN:DAYLIGHT
TZOFFSETFROM:-0600
TZOFFSETTO:-0500
TZNAME:CDT
DTSTART:20270314T080000
END:DAYLIGHT
BEGIN:STANDARD
TZOFFSETFROM:-0500
TZOFFSETTO:-0600
TZNAME:CST
DTSTART:20271107T070000
END:STANDARD
END:VTIMEZONE
BEGIN:VEVENT
DTSTART;TZID=America/Chicago:20260410T080000
DTEND;TZID=America/Chicago:20260412T200000
DTSTAMP:20260420T145050
CREATED:20260323T202202Z
LAST-MODIFIED:20260323T211656Z
UID:14844-1775808000-1776024000@boneyardartsfestival.org
SUMMARY:Espresso Royale-Village Green
DESCRIPTION:Espresso Royale Café is proud to showcase rotating local art exhibits in a warm\, welcoming space designed for all ages. Guests are invited to stop in\, enjoy thoughtfully curated artwork from talented artists in our community\, and experience creativity in a relaxed café setting. Whether you’re meeting friends\, discovering new art\, or simply taking a quiet moment to read a book with your favorite coffee in hand\, our space offers an inviting atmosphere where art and community come together. \nFeaturing: \nKuhu Shukla\nDonna Wilm\nJessamyn Smith\nLuke Bronowski\nNicole Anderson-Cobb\nFriday-Sunday 8am-8pm
URL:https://boneyardartsfestival.org/event/espresso-royale-village-green/
LOCATION:Espresso Royale-Village Green\, 2401 Village Green Place\, Champaign\, IL\, 61822\, United States
CATEGORIES:Champaign,Fine Art
ATTACH;FMTTYPE=image/jpeg:https://boneyardartsfestival.org/wp-content/uploads/2026/03/espresso.jpg
END:VEVENT
BEGIN:VEVENT
DTSTART;TZID=America/Chicago:20260410T080000
DTEND;TZID=America/Chicago:20260411T150000
DTSTAMP:20260420T145050
CREATED:20160322T220336Z
LAST-MODIFIED:20260323T182339Z
UID:1816-1775808000-1775919600@boneyardartsfestival.org
SUMMARY:Springer Cultural Center
DESCRIPTION:The View From Here Art Exhibition \nJoin us for this inaugural group show featuring a variety of local youth and adult artists that utilize all visual art mediums. \nSpringer Cultural Center is the main location for cultural arts programs within the district and houses cultural\, recreational\, and educational programs for all ages as well as workshops\, exhibits\, and performances. Our exhibitions offer local and regional artists a professional venue to display their work. Springer hosts approximately eight exhibitions per year. Exhibitions are determined by review of applications and works in all media will be considered\, with the exception of The View From Here Exhibition where artists can freely enter artwork for the show via entry form. \nFriday\, April 10: 8am – 9pm (closed 1-2pm)\nSaturday\, April 11: 9am – 3pm \n 
URL:https://boneyardartsfestival.org/event/springer-cultural-center/
LOCATION:Springer Cultural Center\, 301 N Randolph Street\, Champaign\, IL\, 61820\, United States
CATEGORIES:Champaign,Drawing/Illustration,Fine Art,Juried,Kids/Family friendly,Mixed media,Painting,Photography,Pottery/Ceramics,Printmaking,Sculpture,Textiles/Fiber,Visual Art
ATTACH;FMTTYPE=image/jpeg:https://boneyardartsfestival.org/wp-content/uploads/2016/03/SpringerCulturalCenter.jpg
END:VEVENT
BEGIN:VEVENT
DTSTART;TZID=America/Chicago:20260410T073000
DTEND;TZID=America/Chicago:20260412T160000
DTSTAMP:20260420T145050
CREATED:20180328T212656Z
LAST-MODIFIED:20260319T162741Z
UID:3698-1775806200-1776009600@boneyardartsfestival.org
SUMMARY:Hopscotch Bakery + Market
DESCRIPTION:Come celebrate our favorite art students from Southside! Student artwork created under the guidance of Amy Lozar\, Southside’s truly amazing art teacher. The students will have their work on display from Boneyard weekend until the end of the school year. \nWork will be on view during store hours. \nFriday\, 4/10: 7:30am-4pm\nSaturday\, 4/11: 7:30am-4pm\nSunday\, 4/12: 7:30am-4pm
URL:https://boneyardartsfestival.org/event/hopscotch-bakery-market/
LOCATION:Hopscotch Bakery + Market\, 802 W. John St.\, Champaign\, IL\, 61820\, United States
CATEGORIES:Champaign,Kids/Family friendly,Painting,Visual Art
ATTACH;FMTTYPE=image/jpeg:https://boneyardartsfestival.org/wp-content/uploads/2018/03/26685503_1648628341860932_2768480188061055272_o.jpg
END:VEVENT
BEGIN:VEVENT
DTSTART;TZID=America/Chicago:20260410T070000
DTEND;TZID=America/Chicago:20260412T150000
DTSTAMP:20260420T145050
CREATED:20250327T004603Z
LAST-MODIFIED:20260325T223903Z
UID:10409-1775804400-1776006000@boneyardartsfestival.org
SUMMARY:Flying Machine Avionics
DESCRIPTION:Featuring Dorota Erdman at Flying Machine Avionics! \n“This recent series of mixed media collages is a direct result of these early and current influences. I still look for treasures\, old photographs\, found objects\, recycled papers\, plants\, in order to give them a new life. I still arrange them in stories or self contained worlds. Their small scale is a nod to my mother’s work and an invitation to study my works up-close\, carefully noticing every detail.” \nMixed media collages using old photographs\, found objects\, recycled papers\, and plants. \nFriday\, 7am-6pm\nSaturday\, 8am-3pm\nSunday\, 8am-3pm
URL:https://boneyardartsfestival.org/event/flying-machine-avionics/
LOCATION:Flying Machine Avionics\, 202 S. 1st St\, Champaign\, IL\, 61820\, United States
CATEGORIES:Champaign,Found Object,Mixed media,Visual Art
ATTACH;FMTTYPE=image/jpeg:https://boneyardartsfestival.org/wp-content/uploads/2025/03/381052988_1015203809774570_5468830584347968529_n-1.jpg
END:VEVENT
BEGIN:VEVENT
DTSTART;TZID=America/Chicago:20260410T050000
DTEND;TZID=America/Chicago:20260411T120000
DTSTAMP:20260420T145050
CREATED:20170327T220319Z
LAST-MODIFIED:20260331T160835Z
UID:2906-1775797200-1775908800@boneyardartsfestival.org
SUMMARY:Texture Home
DESCRIPTION:Come enjoy the work of two favorite local artists on Friday from 10am – 5:30pm and Saturday from 10am – 5pm. See a Live Botanical Design Demonstration Saturday from 1pm-4pm with Luscious Leaves. This live botanical design demonstration will feature the creation of a premium terrarium from start to finish. Visitors will observe the full artistic process\, including substrate layering\, hardscape composition\, plant placement\, and final finishing details. The demonstration is designed to be interactive\, visually engaging\, and approachable for a festival setting. \nLuscious Leaves LLC – creates botanical art and plant-focused design pieces\, including premium terrariums\, kokedama\, mounted botanicals\, and curated living arrangements. The work is rooted in biophilic design\, combining natural materials\, sculptural composition\, and plant styling to create pieces that feel refined\, immersive\, and artful. \n  \n Farah Kesseiri – I make Abstract paintings and figure drawings\, my art departs from realistic depictions\, using a visual language of forms\, lines and colors to create paintings references from the real world. I often focus on emotions\, ideas\, or experiences emphasizing on the expressive elements of color\, gesture\, and geometry\, allowing for an open interpretation that moves beyond literal representation and explores inner feelings or concepts. I combine acrylic and gouache paints to offer a more versatile paintings experience. \n  \n\n\n\nFriday  4/10\, 10am – 5:30pm\nSaturday 4/11\, 10am – 5pm\nLive Botanical Design Demonstration Saturday 4/11\, 1pm – 4pm
URL:https://boneyardartsfestival.org/event/texture-home/
LOCATION:Texture Home\, 1721 W Kirby Ave\, Champaign\, IL\, 61821\, United States
CATEGORIES:Champaign,Demo/Workshop,Drawing/Illustration,Fine Art,Floral,Painting,Visual Art
ATTACH;FMTTYPE=image/jpeg:https://boneyardartsfestival.org/wp-content/uploads/2017/03/texture_home_smile-800x400-1.jpg
END:VEVENT
BEGIN:VEVENT
DTSTART;TZID=America/Chicago:20260410T050000
DTEND;TZID=America/Chicago:20260411T100000
DTSTAMP:20260420T145050
CREATED:20170327T101943Z
LAST-MODIFIED:20260330T174030Z
UID:2848-1775797200-1775901600@boneyardartsfestival.org
SUMMARY:CU Woodshop Supply
DESCRIPTION:Our Woodshop gallery has an assortment of work using a range of techniques joining exotic wood\, epoxy and finishes as well as mixed media\, showcasing the amazing talents of our customers and the local woodworking community. \nFriday 10am-6pm – Reception Friday 5-6pm\nSaturday 10am-3pm
URL:https://boneyardartsfestival.org/event/cu-woodshop-supply-and-school-of-woodworking/
LOCATION:CU Woodshop\, 1305 N McKinley Ave\, Champaign\, IL\, 61821\, United States
CATEGORIES:Champaign,Mixed media,Sale,Woodworking
ATTACH;FMTTYPE=image/jpeg:https://boneyardartsfestival.org/wp-content/uploads/2017/03/thumbnail_IMG_4134.jpg
END:VEVENT
BEGIN:VEVENT
DTSTART;TZID=America/Chicago:20260409T170000
DTEND;TZID=America/Chicago:20260411T180000
DTSTAMP:20260420T145050
CREATED:20160318T213420Z
LAST-MODIFIED:20260330T174743Z
UID:1702-1775754000-1775930400@boneyardartsfestival.org
SUMMARY:Krannert Art Museum
DESCRIPTION:Come explore exhibitions on view at Krannert Art Museum (KAM) including Another Place: Storymaking the Entangled Prairie (featuring 11 artists on faculty in the School of Art & Design)\, Memorias de la Mujer Lotina: Arpilleras\, Women\, and Coal in Chile\, the MFA Exhibition; Encounters: The Arts of Africa\, Art Since 1948\, Fragmented Histories: Andean Art Before 1600\, Historical American and European Art Collections\, Well-Designed Beauty: Trade\, Technology\, and Decorative Arts\, and our Ancient Mediterranean collection. Enjoy three exciting Boneyard events: KAM’s Teen Night at the Art Museum\, Improvisers Exchange: Sonic Location\, and MFA Exhibition Opening Reception. \n\n\n\nLocal artist names from Another Place: Storymaking the Entangled Prairie: \nRyan Griffis\nEmmy Lingscheit\nMelissa Pokorny\nSharath Chandra Ramakrishnan\nStacey A. Robinson\nJoel Ross\nStephen Signa-Avilés\nBlair Ebony Smith\nNekita Thomas\nDeke Weaver\nBrooke C. White \nLocal artist names for MFA Exhibition: \nJose Cabada\nOriana Crutcher\nGrey Dey\nSamantha Jones\nJustin Kim\nAnthony Obayomi\n(Ted) Fengzhuo Shao\nEmily Tomlinson \n\n\n\n4/9 · Teen Night at the Art Museum for Boneyard! 5–7:30 pm Calling all teens! Join us for a teen takeover of the museum featuring live music\, art-making\, activities\, and food for young people in middle school and high school as part of Boneyard Arts Festival. Explore our galleries and flex your creative muscles during this teen night at the museum! Includes a pop-up exhibition of works by ArtSpeak\, our teen museum interns from Rantoul High School. \n4/11 · Improvisers Exchange: Sonic Location 1–3 pm Experience immersive sound as you view artwork at Krannert Art Museum! Curated by Jason Finkelman\, director of Global Arts Performance Initiatives at Krannert Center for the Performing Arts. A Boneyard Arts Festival and Mom’s Weekend event. \n4/11 · MFA Exhibition Opening Reception 4–6 pm \nKrannert Art Museum is open Friday 10am-5pm and Saturday 10am-4pm. We are closed Sundays.
URL:https://boneyardartsfestival.org/event/krannert-art-museum/
LOCATION:Krannert Art Museum\, 500 East Peabody Drive\, Champaign\, IL\, 61820\, United States
CATEGORIES:Campus,Champaign,Drawing/Illustration,Fine Art,Found Object,Installation,Kids/Family friendly,Mixed media,Painting,Photography,Pottery/Ceramics,Printmaking,Reception,Sculpture,Textiles/Fiber,Visual Art,World Music
ATTACH;FMTTYPE=image/jpeg:https://boneyardartsfestival.org/wp-content/uploads/2016/03/KAM.jpg
END:VEVENT
END:VCALENDAR